BEGIN:VCALENDAR
VERSION:2.0
METHOD:PUBLISH
PRODID:-//hacksw/handcal//NONSGML v1.0//EN
BEGIN:VEVENT
DTSTAMP:20260420T110303Z
DTSTART:20240119T130000Z
DTEND:20240121T170000Z
UID:20240119T130000Z-20240121T170000Z-71@objectif-image.fr
SUMMARY:Stage N°01/2024 - Dompter les lumières de la nuit
DESCRIPTION:N° 1 – Dompter les lumières – animé par Jean-Christophe BE
 CHET à PARIS\nStage intensif. Pour public non débutants maitrisant bie
 n son appareil photo\n\nObjectif du stage : \n\nDepuis Brassaï en 1932
  et son livre « Paris de nuit »\, tous les photographes connaissent la
  potentiel poétique et documentaire de la prise de vue nocturne.\n\n 	
 Etre créatif à main levée avec les lumières électriques de la ville.\n
  	Initier les stagiaires à une pratique libre et poétique de la photo 
 « électrique » en N&B comme en couleur.\n 	Utiliser toute la gamme cré
 ative des différents flous spécifiques à la photographie.\n 	Cadrer av
 ec une grande liberté.\n 	Se passer de trépied et de flash.\n 	Faire d
 es photos dans l’esprit des livres « Electric’cités’ et « Tokyo Statio
 n » de Jean-Christophe.\n 	Pratique originale et précise de la photo u
 rbaine de rue.\n 	Il vous guidera dans ce domaine magique où les règle
 s classiques n’ont plus cours….\n\nDéroulement du stage : \n\n 	Début 
 le vendredi à 14h. (accueil\, présentation). Sortie de nuit le soir en
  ville.\n 	Le samedi début à 10h. Sortie de nuit le soir en ville.\n 	
 Jean-Christophe vous accompagnera jusqu’à 21h/22h le vendredi et samed
 i. Lieux déterminés sur place.\n 	Les repas seront pris ensemble le mi
 di et le soir accompagné du maitre de stage. Restaurant parisien.\n 	P
 as de limite pour les deux soirs\, (chacun finira les prises de vue co
 mme il veut après cette heure-là\, vu le thème).\n\nLe dimanche début 
 à 9h30 jusqu’à 18h maxi.\n\n 	Lecture de porte-folio pour une séance d
 e critique. Les stagiaires pourront amener leur porte-folio personnel 
 (10 photos papier maxi) et certaines anciennes séries papier (2 maxi)\
 , même sans rapport avec la photo de nuit.\n 	Editing\n\nLieu du stage
  : 8 rue Brillat Savarin 75013 Paris. (Locaux d’Objectif Image Paris).
 \n\nMatériel nécessaire appareil photo numérique et ordinateur pour la
  sélection de photos à projeter les matins.\n\nParticipation financièr
 e : 90€ à l’inscription.\nDate limite d’inscription :  Le 26 décembre 
 2023.
X-ALT-DESC;FMTTYPE=text/html:<h4><span style=color: #000080\;><strong>
 N° 1 – Dompter les lumières</strong> </span>– <span style=color: #0000
 00\;>animé par <strong>Jean-Christophe BECHET</strong> à PARIS</span><
 /h4>\n<p><span style=color: #000000\;>Stage <strong>intensif. </strong
 >Pour public non débutants<strong> maitrisant</strong> bien son appare
 il photo</span></p>\n<p><span style=color: #333333\;><strong><u><span 
 style=color: #000000\;>Objectif du stage :</span> </u></strong></span>
 </p>\n<p><span style=color: #333333\;>Depuis <strong>Brassaï</strong> 
 en 1932 et son livre « Paris de nuit »\, tous les photographes connais
 sent la potentiel poétique et documentaire de la <strong>prise de vue 
 nocturne.</strong></span></p>\n<ul>\n<li><span style=color: #333333\;>
 <strong>Etre créatif</strong> à main levée avec les lumières électriqu
 es de la ville.</span></li>\n<li><span style=color: #333333\;><strong>
 Initier</strong> les stagiaires à une pratique libre et poétique de la
  photo « électrique » en N&amp\;B comme en couleur.</span></li>\n<li><
 span style=color: #333333\;><strong>Utiliser</strong> toute la gamme c
 réative des différents flous spécifiques à la photographie.</span></li
 >\n<li><span style=color: #333333\;><strong>Cadrer</strong> avec une g
 rande liberté.</span></li>\n<li><span style=color: #333333\;><strong>S
 e passer</strong> de trépied et de flash.</span></li>\n<li><span style
 =color: #333333\;><strong>Faire des photos </strong>dans l’esprit des 
 livres « Electric’cités’ et « Tokyo Station » de Jean-Christophe.</spa
 n></li>\n<li><span style=color: #333333\;><strong>Pratique </strong>or
 iginale et précise de la photo urbaine de rue.</span></li>\n<li><span 
 style=color: #333333\;><strong>Il vous guidera</strong> dans ce domain
 e magique où les règles classiques n’ont plus cours….</span></li>\n</u
 l>\n<p><span style=color: #000000\;><strong><u>Déroulement du stage : 
 </u></strong></span></p>\n<ul>\n<li><span style=color: #333333\;>Début
  le <strong>vendredi</strong> à 14h. (accueil\, présentation). <strong
 >Sortie</strong> de nuit le soir en ville.</span></li>\n<li><span styl
 e=color: #333333\;>Le <strong>samedi</strong> début à 10h. <strong>Sor
 tie</strong> de nuit le soir en ville.</span></li>\n<li><span style=co
 lor: #333333\;><strong>Jean-Christophe vous accompagnera</strong> jusq
 u’à 21h/22h le vendredi et samedi. Lieux déterminés sur place.</span><
 /li>\n<li>Les repas seront pris ensemble le midi et le soir accompagné
  du maitre de stage. Restaurant parisien.</li>\n<li><span style=color:
  #333333\;><strong>Pas de limite pour les deux soirs</strong>\, (chacu
 n finira les prises de vue comme il veut après cette heure-là\, vu le 
 thème).</span></li>\n</ul>\n<p><span style=color: #333333\;><strong>Le
 </strong> <strong>dimanche</strong> début à 9h30 jusqu’à 18h maxi.</sp
 an></p>\n<ul>\n<li><span style=color: #333333\;><strong>Lecture</stron
 g> de porte-folio pour une <strong>séance de critique</strong>. Les st
 agiaires pourront amener leur porte-folio personnel <strong>(10 photos
  papier</strong> <strong>maxi)</strong> <strong>et certaines anciennes
  séries papier</strong> <strong>(2 maxi)\,</strong> même sans rapport 
 avec la photo de nuit.</span></li>\n<li><span style=color: #333333\;><
 strong>Editing</strong></span></li>\n</ul>\n<p><span style=color: #000
 000\;><strong>Lieu du stage : </strong>8 rue Brillat Savarin 75013 Par
 is. (Locaux d’Objectif Image Paris).</span><br>\n<br>\nMatériel nécess
 aire appareil photo numérique et ordinateur pour la sélection de photo
 s à projeter les matins.</p>\n<p><span style=color: #000000\;><strong>
 Participation financière : 90€</strong> à l’inscription.</span></p>\n<
 h4 style=text-align: center\;><strong><span style=color: #800080\;><sp
 an style=color: #000000\;>Date limite d’inscription</span> :  <span st
 yle=color: #800000\;>Le 26 décembre 2023.</span></span></strong></h4>\
 n
URL:https://objectif-image.fr/OI/events/stage-n-c2-b0-c2-ab-01-dompter
 -les-lumieres-de-la-nuit-2024-c2-bb/?lang=fr
ATTACH:https://objectif-image.fr/OI/events/stage-n-c2-b0-c2-ab-01-domp
 ter-les-lumieres-de-la-nuit-2024-c2-bb/?lang=fr
ATTACH:https://objectif-image.fr/OI/wp-content/uploads/2022/11/Stephan
 e-D-1232103-80x80.jpg
LOCATION:Objectif Image Paris\, 8 rue Brillat Savarin\, Paris
END:VEVENT
END:VCALENDAR
